BEGIN:VCALENDAR
VERSION:2.0
PRODID:-//YASU GAME LIFE CHANNEL - ECPv6.15.20//NONSGML v1.0//EN
CALSCALE:GREGORIAN
METHOD:PUBLISH
X-ORIGINAL-URL:https://yasugamelifechannel.com
X-WR-CALDESC:YASU GAME LIFE CHANNEL のイベント
REFRESH-INTERVAL;VALUE=DURATION:PT1H
X-Robots-Tag:noindex
X-PUBLISHED-TTL:PT1H
BEGIN:VTIMEZONE
TZID:Asia/Tokyo
BEGIN:STANDARD
TZOFFSETFROM:+0900
TZOFFSETTO:+0900
TZNAME:JST
DTSTART:20250101T000000
END:STANDARD
END:VTIMEZONE
BEGIN:VEVENT
DTSTART;TZID=Asia/Tokyo:20260408T210000
DTEND;TZID=Asia/Tokyo:20260408T223000
DTSTAMP:20260425T043059
CREATED:20260404T154037Z
LAST-MODIFIED:20260404T154037Z
UID:4042-1775682000-1775687400@yasugamelifechannel.com
SUMMARY:#33 テイルズオブグレイセス エフ リマスター
DESCRIPTION:
URL:https://yasugamelifechannel.com/event/20260408/
END:VEVENT
BEGIN:VEVENT
DTSTART;TZID=Asia/Tokyo:20260409T210000
DTEND;TZID=Asia/Tokyo:20260409T223000
DTSTAMP:20260425T043059
CREATED:20260404T154109Z
LAST-MODIFIED:20260404T154109Z
UID:4044-1775768400-1775773800@yasugamelifechannel.com
SUMMARY:#34 テイルズオブグレイセス エフ リマスター
DESCRIPTION:
URL:https://yasugamelifechannel.com/event/20260409/
END:VEVENT
BEGIN:VEVENT
DTSTART;TZID=Asia/Tokyo:20260410T210000
DTEND;TZID=Asia/Tokyo:20260410T223000
DTSTAMP:20260425T043059
CREATED:20260404T154150Z
LAST-MODIFIED:20260404T154150Z
UID:4046-1775854800-1775860200@yasugamelifechannel.com
SUMMARY:#2 ドラゴンクエストⅢ そして伝説へ…
DESCRIPTION:
URL:https://yasugamelifechannel.com/event/20260410/
END:VEVENT
BEGIN:VEVENT
DTSTART;TZID=Asia/Tokyo:20260411T210000
DTEND;TZID=Asia/Tokyo:20260411T223000
DTSTAMP:20260425T043059
CREATED:20260404T154225Z
LAST-MODIFIED:20260404T154225Z
UID:4048-1775941200-1775946600@yasugamelifechannel.com
SUMMARY:#3 ドラゴンクエストⅢ そして伝説へ…
DESCRIPTION:
URL:https://yasugamelifechannel.com/event/20260411/
END:VEVENT
BEGIN:VEVENT
DTSTART;TZID=Asia/Tokyo:20260413T210000
DTEND;TZID=Asia/Tokyo:20260413T223000
DTSTAMP:20260425T043059
CREATED:20260411T160814Z
LAST-MODIFIED:20260411T160814Z
UID:4082-1776114000-1776119400@yasugamelifechannel.com
SUMMARY:#6 ワイズマンズワールド リトライ
DESCRIPTION:
URL:https://yasugamelifechannel.com/event/20260413/
END:VEVENT
BEGIN:VEVENT
DTSTART;TZID=Asia/Tokyo:20260414T210000
DTEND;TZID=Asia/Tokyo:20260414T223000
DTSTAMP:20260425T043059
CREATED:20260411T160849Z
LAST-MODIFIED:20260411T160849Z
UID:4084-1776200400-1776205800@yasugamelifechannel.com
SUMMARY:#7 ワイズマンズワールド リトライ
DESCRIPTION:
URL:https://yasugamelifechannel.com/event/20260414/
END:VEVENT
BEGIN:VEVENT
DTSTART;TZID=Asia/Tokyo:20260415T210000
DTEND;TZID=Asia/Tokyo:20260415T223000
DTSTAMP:20260425T043059
CREATED:20260411T160935Z
LAST-MODIFIED:20260411T160935Z
UID:4086-1776286800-1776292200@yasugamelifechannel.com
SUMMARY:#35 テイルズオブグレイセス エフ リマスター
DESCRIPTION:
URL:https://yasugamelifechannel.com/event/20260415/
END:VEVENT
BEGIN:VEVENT
DTSTART;TZID=Asia/Tokyo:20260416T210000
DTEND;TZID=Asia/Tokyo:20260416T223000
DTSTAMP:20260425T043059
CREATED:20260411T161012Z
LAST-MODIFIED:20260411T161012Z
UID:4089-1776373200-1776378600@yasugamelifechannel.com
SUMMARY:#1 テイルズオブイノセンスR
DESCRIPTION:
URL:https://yasugamelifechannel.com/event/20260416/
END:VEVENT
BEGIN:VEVENT
DTSTART;TZID=Asia/Tokyo:20260417T210000
DTEND;TZID=Asia/Tokyo:20260417T223000
DTSTAMP:20260425T043059
CREATED:20260411T161100Z
LAST-MODIFIED:20260411T161100Z
UID:4091-1776459600-1776465000@yasugamelifechannel.com
SUMMARY:#4 ドラゴンクエストⅢ（FC）
DESCRIPTION:
URL:https://yasugamelifechannel.com/event/20260417/
END:VEVENT
BEGIN:VEVENT
DTSTART;TZID=Asia/Tokyo:20260418T210000
DTEND;TZID=Asia/Tokyo:20260418T223000
DTSTAMP:20260425T043059
CREATED:20260411T161141Z
LAST-MODIFIED:20260411T161141Z
UID:4093-1776546000-1776551400@yasugamelifechannel.com
SUMMARY:#5 ドラゴンクエストⅢ（FC）
DESCRIPTION:
URL:https://yasugamelifechannel.com/event/20260418/
END:VEVENT
BEGIN:VEVENT
DTSTART;TZID=Asia/Tokyo:20260420T210000
DTEND;TZID=Asia/Tokyo:20260420T223000
DTSTAMP:20260425T043059
CREATED:20260418T142514Z
LAST-MODIFIED:20260418T142514Z
UID:4184-1776718800-1776724200@yasugamelifechannel.com
SUMMARY:#7 ワイズマンズワールド リトライ
DESCRIPTION:
URL:https://yasugamelifechannel.com/event/20260420/
END:VEVENT
BEGIN:VEVENT
DTSTART;TZID=Asia/Tokyo:20260421T210000
DTEND;TZID=Asia/Tokyo:20260421T223000
DTSTAMP:20260425T043059
CREATED:20260418T142557Z
LAST-MODIFIED:20260418T142557Z
UID:4186-1776805200-1776810600@yasugamelifechannel.com
SUMMARY:#8 ワイズマンズワールド リトライ
DESCRIPTION:
URL:https://yasugamelifechannel.com/event/20260421/
END:VEVENT
BEGIN:VEVENT
DTSTART;TZID=Asia/Tokyo:20260422T210000
DTEND;TZID=Asia/Tokyo:20260422T223000
DTSTAMP:20260425T043059
CREATED:20260418T142702Z
LAST-MODIFIED:20260418T142702Z
UID:4188-1776891600-1776897000@yasugamelifechannel.com
SUMMARY:#2 テイルズオブイノセンスR
DESCRIPTION:
URL:https://yasugamelifechannel.com/event/20260422/
END:VEVENT
BEGIN:VEVENT
DTSTART;TZID=Asia/Tokyo:20260423T210000
DTEND;TZID=Asia/Tokyo:20260423T223000
DTSTAMP:20260425T043059
CREATED:20260418T142817Z
LAST-MODIFIED:20260418T142817Z
UID:4190-1776978000-1776983400@yasugamelifechannel.com
SUMMARY:#3 テイルズオブイノセンスR
DESCRIPTION:
URL:https://yasugamelifechannel.com/event/20260423/
END:VEVENT
BEGIN:VEVENT
DTSTART;TZID=Asia/Tokyo:20260424T210000
DTEND;TZID=Asia/Tokyo:20260424T223000
DTSTAMP:20260425T043059
CREATED:20260418T142919Z
LAST-MODIFIED:20260418T142919Z
UID:4193-1777064400-1777069800@yasugamelifechannel.com
SUMMARY:#6 ドラゴンクエストⅢ（FC）
DESCRIPTION:
URL:https://yasugamelifechannel.com/event/20260424/
END:VEVENT
BEGIN:VEVENT
DTSTART;TZID=Asia/Tokyo:20260425T210000
DTEND;TZID=Asia/Tokyo:20260425T223000
DTSTAMP:20260425T043059
CREATED:20260418T143004Z
LAST-MODIFIED:20260418T143004Z
UID:4195-1777150800-1777156200@yasugamelifechannel.com
SUMMARY:#7 ドラゴンクエストⅢ（FC）
DESCRIPTION:
URL:https://yasugamelifechannel.com/event/20260425/
END:VEVENT
END:VCALENDAR